BEGIN:VCALENDAR
VERSION:2.0
PRODID:-//City of Auburndale - ECPv6.15.20//NONSGML v1.0//EN
CALSCALE:GREGORIAN
METHOD:PUBLISH
X-WR-CALNAME:City of Auburndale
X-ORIGINAL-URL:https://auburndalefl.com
X-WR-CALDESC:Events for City of Auburndale
REFRESH-INTERVAL;VALUE=DURATION:PT1H
X-Robots-Tag:noindex
X-PUBLISHED-TTL:PT1H
BEGIN:VTIMEZONE
TZID:America/New_York
BEGIN:DAYLIGHT
TZOFFSETFROM:-0500
TZOFFSETTO:-0400
TZNAME:EDT
DTSTART:20240310T070000
END:DAYLIGHT
BEGIN:STANDARD
TZOFFSETFROM:-0400
TZOFFSETTO:-0500
TZNAME:EST
DTSTART:20241103T060000
END:STANDARD
BEGIN:DAYLIGHT
TZOFFSETFROM:-0500
TZOFFSETTO:-0400
TZNAME:EDT
DTSTART:20250309T070000
END:DAYLIGHT
BEGIN:STANDARD
TZOFFSETFROM:-0400
TZOFFSETTO:-0500
TZNAME:EST
DTSTART:20251102T060000
END:STANDARD
BEGIN:DAYLIGHT
TZOFFSETFROM:-0500
TZOFFSETTO:-0400
TZNAME:EDT
DTSTART:20260308T070000
END:DAYLIGHT
BEGIN:STANDARD
TZOFFSETFROM:-0400
TZOFFSETTO:-0500
TZNAME:EST
DTSTART:20261101T060000
END:STANDARD
END:VTIMEZONE
BEGIN:VEVENT
DTSTART;TZID=America/New_York:20250215T180000
DTEND;TZID=America/New_York:20250215T210000
DTSTAMP:20260423T055319
CREATED:20250210T161443Z
LAST-MODIFIED:20250210T161443Z
UID:28064-1739642400-1739653200@auburndalefl.com
SUMMARY:MLS Preseason Friendly: Tampa Bay Rowdies vs. Montreal Impact
DESCRIPTION:You can experience Major League Soccer for FREE! A preseason friendly match will be hosted on Saturday\, February 15\, 2025\, between the Tampa Bay Rowdies and the Montreal Impact starting at 6:00 P.M located at Lake Myrtle Sports Complex. This will be an exciting event for all sports fans.
URL:https://auburndalefl.com/event/mls-preseason-friendly-tampa-bay-rowdies-vs-montreal-impact/
CATEGORIES:Community Events,Sports Events
ATTACH;FMTTYPE=image/png:https://auburndalefl.com/wp-content/uploads/2024/01/Lake-Myrtle-Park.png
END:VEVENT
END:VCALENDAR