BEGIN:VCALENDAR
VERSION:2.0
PRODID:-//City of Auburndale - ECPv6.15.20//NONSGML v1.0//EN
CALSCALE:GREGORIAN
METHOD:PUBLISH
X-ORIGINAL-URL:https://auburndalefl.com
X-WR-CALDESC:Events for City of Auburndale
REFRESH-INTERVAL;VALUE=DURATION:PT1H
X-Robots-Tag:noindex
X-PUBLISHED-TTL:PT1H
BEGIN:VTIMEZONE
TZID:America/New_York
BEGIN:DAYLIGHT
TZOFFSETFROM:-0500
TZOFFSETTO:-0400
TZNAME:EDT
DTSTART:20240310T070000
END:DAYLIGHT
BEGIN:STANDARD
TZOFFSETFROM:-0400
TZOFFSETTO:-0500
TZNAME:EST
DTSTART:20241103T060000
END:STANDARD
BEGIN:DAYLIGHT
TZOFFSETFROM:-0500
TZOFFSETTO:-0400
TZNAME:EDT
DTSTART:20250309T070000
END:DAYLIGHT
BEGIN:STANDARD
TZOFFSETFROM:-0400
TZOFFSETTO:-0500
TZNAME:EST
DTSTART:20251102T060000
END:STANDARD
BEGIN:DAYLIGHT
TZOFFSETFROM:-0500
TZOFFSETTO:-0400
TZNAME:EDT
DTSTART:20260308T070000
END:DAYLIGHT
BEGIN:STANDARD
TZOFFSETFROM:-0400
TZOFFSETTO:-0500
TZNAME:EST
DTSTART:20261101T060000
END:STANDARD
END:VTIMEZONE
BEGIN:VEVENT
DTSTART;VALUE=DATE:20251224
DTEND;VALUE=DATE:20251225
DTSTAMP:20260422T135430
CREATED:20191216T140511Z
LAST-MODIFIED:20251201T135748Z
UID:13486-1766534400-1766620799@auburndalefl.com
SUMMARY:Christmas Eve (Holiday)
DESCRIPTION:Have a wonderful Christmas Eve! City offices and facilities are closed today.
URL:https://auburndalefl.com/event/christmas-eve-holiday/
CATEGORIES:Holidays and Special Days
ATTACH;FMTTYPE=image/jpeg:https://auburndalefl.com/wp-content/uploads/2019/12/Christmas-Web-Banner.jpg
END:VEVENT
BEGIN:VEVENT
DTSTART;VALUE=DATE:20251225
DTEND;VALUE=DATE:20251226
DTSTAMP:20260422T135430
CREATED:20221205T165328Z
LAST-MODIFIED:20251201T135730Z
UID:22821-1766620800-1766707199@auburndalefl.com
SUMMARY:Christmas (Holiday)
DESCRIPTION:City offices will be closed in observation of the Christmas holiday.
URL:https://auburndalefl.com/event/city-holiday-christmas-2/
CATEGORIES:Holidays and Special Days
ATTACH;FMTTYPE=image/jpeg:https://auburndalefl.com/wp-content/uploads/2019/12/Christmas-Web-Banner.jpg
END:VEVENT
BEGIN:VEVENT
DTSTART;VALUE=DATE:20251231
DTEND;VALUE=DATE:20260101
DTSTAMP:20260422T135430
CREATED:20201221T190102Z
LAST-MODIFIED:20251208T142841Z
UID:16710-1767139200-1767225599@auburndalefl.com
SUMMARY:New Year's Eve
DESCRIPTION:It’s the final day of 2025!
URL:https://auburndalefl.com/event/new-years-eve/
CATEGORIES:Holidays and Special Days
ATTACH;FMTTYPE=image/jpeg:https://auburndalefl.com/wp-content/uploads/2019/12/NY2020.jpeg
END:VEVENT
END:VCALENDAR