BEGIN:VCALENDAR
VERSION:2.0
PRODID:-//City of Auburndale - ECPv6.15.20//NONSGML v1.0//EN
CALSCALE:GREGORIAN
METHOD:PUBLISH
X-WR-CALNAME:City of Auburndale
X-ORIGINAL-URL:https://auburndalefl.com
X-WR-CALDESC:Events for City of Auburndale
REFRESH-INTERVAL;VALUE=DURATION:PT1H
X-Robots-Tag:noindex
X-PUBLISHED-TTL:PT1H
BEGIN:VTIMEZONE
TZID:America/New_York
BEGIN:DAYLIGHT
TZOFFSETFROM:-0500
TZOFFSETTO:-0400
TZNAME:EDT
DTSTART:20250309T070000
END:DAYLIGHT
BEGIN:STANDARD
TZOFFSETFROM:-0400
TZOFFSETTO:-0500
TZNAME:EST
DTSTART:20251102T060000
END:STANDARD
BEGIN:DAYLIGHT
TZOFFSETFROM:-0500
TZOFFSETTO:-0400
TZNAME:EDT
DTSTART:20260308T070000
END:DAYLIGHT
BEGIN:STANDARD
TZOFFSETFROM:-0400
TZOFFSETTO:-0500
TZNAME:EST
DTSTART:20261101T060000
END:STANDARD
BEGIN:DAYLIGHT
TZOFFSETFROM:-0500
TZOFFSETTO:-0400
TZNAME:EDT
DTSTART:20270314T070000
END:DAYLIGHT
BEGIN:STANDARD
TZOFFSETFROM:-0400
TZOFFSETTO:-0500
TZNAME:EST
DTSTART:20271107T060000
END:STANDARD
END:VTIMEZONE
BEGIN:VEVENT
DTSTART;TZID=America/New_York:20260502T180000
DTEND;TZID=America/New_York:20260502T200000
DTSTAMP:20260422T001700
CREATED:20240304T135145Z
LAST-MODIFIED:20260401T134646Z
UID:26371-1777744800-1777752000@auburndalefl.com
SUMMARY:Mother-Son Dance
DESCRIPTION:The SOCK HOP Mother Son Dance tickets are on sale! The dance will take place on May 2 from 6:00 P.M. to 8:00 P.M. at the new Lake Ariana Civic Center at 2220 Lake Ariana Boulevard\, Auburndale\, FL 33823. \nTo purchase tickets\, please visit 119 West Park Street\, Auburndale\, FL 33823. Tickets can ONLY be purchased in-person. For more information\, please call (863) 965-5545.
URL:https://auburndalefl.com/event/mother-son-dance/
CATEGORIES:City Events,Community Events
ATTACH;FMTTYPE=image/png:https://auburndalefl.com/wp-content/uploads/2024/01/City-of-Auburndale-Seal-2022-Multicolor-Transparent.png
END:VEVENT
BEGIN:VEVENT
DTSTART;TZID=America/New_York:20260504T190000
DTEND;TZID=America/New_York:20260504T210000
DTSTAMP:20260422T001700
CREATED:20190405T182257Z
LAST-MODIFIED:20260407T151215Z
UID:11075-1777921200-1777928400@auburndalefl.com
SUMMARY:City Commission Meeting
DESCRIPTION:A City Commission Meeting is scheduled on Monday\, May 4\, 2026 . The meeting will be held at City Hall in the Commission Room starting at 7:00 PM. \nThe Agenda for this meeting will be uploaded to the Agendas & Minutes page within 48 hours of meeting time. \nPublic Notices can be found on our Public Notices page. \nIn compliance with the Americans with Disabilities Act (ADA)\, anyone who needs a special accommodation for this meeting should contact the City Clerk’s Office at (863) 968-5133 at least 48 hours in advance of this meeting.
URL:https://auburndalefl.com/event/city-commission-meeting-2/
LOCATION:Auburndale City Hall\, 1 Bobby Green Plaza\, Auburndale\, FL 33823\, Auburndale\, FL\, 33823\, United States
CATEGORIES:Public Meetings
ATTACH;FMTTYPE=image/png:https://auburndalefl.com/wp-content/uploads/2022/08/City-Seal-Website-7-22.png
END:VEVENT
BEGIN:VEVENT
DTSTART;VALUE=DATE:20260510
DTEND;VALUE=DATE:20260511
DTSTAMP:20260422T001700
CREATED:20230425T145918Z
LAST-MODIFIED:20260401T192714Z
UID:23949-1778371200-1778457599@auburndalefl.com
SUMMARY:Mother's Day
DESCRIPTION:Mother’s Day is Sunday\, May 10\, 2026.
URL:https://auburndalefl.com/event/mothers-day/
CATEGORIES:Holidays and Special Days
ATTACH;FMTTYPE=image/png:https://auburndalefl.com/wp-content/uploads/2022/08/City-Seal-Website-7-22.png
END:VEVENT
BEGIN:VEVENT
DTSTART;VALUE=DATE:20260525
DTEND;VALUE=DATE:20260526
DTSTAMP:20260422T001700
CREATED:20190506T183733Z
LAST-MODIFIED:20260401T192804Z
UID:11416-1779667200-1779753599@auburndalefl.com
SUMMARY:Memorial Day (City Holiday)
DESCRIPTION:The City of Auburndale will observe Memorial Day on Monday\, May 25\, 2026. City offices and facilities will be closed.
URL:https://auburndalefl.com/event/memorial-day-city-holiday/
CATEGORIES:Holidays and Special Days
ATTACH;FMTTYPE=image/png:https://auburndalefl.com/wp-content/uploads/2022/08/City-Seal-Website-7-22.png
ORGANIZER;CN="Seth Teston":MAILTO:steston@auburndalefl.com
END:VEVENT
BEGIN:VEVENT
DTSTART;TZID=America/New_York:20260704T210000
DTEND;TZID=America/New_York:20260704T220000
DTSTAMP:20260422T001700
CREATED:20210608T200651Z
LAST-MODIFIED:20260401T141254Z
UID:18230-1783198800-1783202400@auburndalefl.com
SUMMARY:Fourth of July Fireworks
DESCRIPTION:Get ready for Fourth of July fireworks!\n\n\n\nDate: Saturday\, July 4\n\nTime: 12:00 P.M. – 9:00 P.M.\n\nWhere: Lake Ariana Park\n\n\n\nFor more information\, please call Parks & Rec. at (863) 965-5545.
URL:https://auburndalefl.com/event/fourth-of-july-fireworks/
CATEGORIES:City Events
ATTACH;FMTTYPE=image/jpeg:https://auburndalefl.com/wp-content/uploads/2019/06/American-Event-Web.jpg
END:VEVENT
BEGIN:VEVENT
DTSTART;TZID=America/New_York:20260707T110000
DTEND;TZID=America/New_York:20260707T130000
DTSTAMP:20260422T001700
CREATED:20210709T200748Z
LAST-MODIFIED:20260401T135236Z
UID:18569-1783422000-1783429200@auburndalefl.com
SUMMARY:Timeout Tuesday
DESCRIPTION:TIMEOUT TUESDAY 2026 DATES | 11:00 A.M. to 1:00 P.M. \nTuesday\, July 7 – INFLATABLE DAY @ DOWNTOWN PARK \nTuesday\, July 14 – WATER BALLOON DAY @ DOWNTOWN PARK \nTuesday\, July 21 – ANIMAL DAY @ DOWNTOWN PARK \nTuesday\, July 28 – FIRE HOSE DAY @ AUBURNDALE FIRE STATION (100 ARIANA AVE.\, AUBURNDALE\, FL 33823)
URL:https://auburndalefl.com/event/timeout-tuesday/
CATEGORIES:City Events
ATTACH;FMTTYPE=image/png:https://auburndalefl.com/wp-content/uploads/2020/02/Parks-Icon-600.png
END:VEVENT
END:VCALENDAR