BEGIN:VCALENDAR
VERSION:2.0
PRODID:-//City of Auburndale - ECPv6.15.20//NONSGML v1.0//EN
CALSCALE:GREGORIAN
METHOD:PUBLISH
X-WR-CALNAME:City of Auburndale
X-ORIGINAL-URL:https://auburndalefl.com
X-WR-CALDESC:Events for City of Auburndale
REFRESH-INTERVAL;VALUE=DURATION:PT1H
X-Robots-Tag:noindex
X-PUBLISHED-TTL:PT1H
BEGIN:VTIMEZONE
TZID:America/New_York
BEGIN:DAYLIGHT
TZOFFSETFROM:-0500
TZOFFSETTO:-0400
TZNAME:EDT
DTSTART:20240310T070000
END:DAYLIGHT
BEGIN:STANDARD
TZOFFSETFROM:-0400
TZOFFSETTO:-0500
TZNAME:EST
DTSTART:20241103T060000
END:STANDARD
BEGIN:DAYLIGHT
TZOFFSETFROM:-0500
TZOFFSETTO:-0400
TZNAME:EDT
DTSTART:20250309T070000
END:DAYLIGHT
BEGIN:STANDARD
TZOFFSETFROM:-0400
TZOFFSETTO:-0500
TZNAME:EST
DTSTART:20251102T060000
END:STANDARD
BEGIN:DAYLIGHT
TZOFFSETFROM:-0500
TZOFFSETTO:-0400
TZNAME:EDT
DTSTART:20260308T070000
END:DAYLIGHT
BEGIN:STANDARD
TZOFFSETFROM:-0400
TZOFFSETTO:-0500
TZNAME:EST
DTSTART:20261101T060000
END:STANDARD
BEGIN:DAYLIGHT
TZOFFSETFROM:-0500
TZOFFSETTO:-0400
TZNAME:EDT
DTSTART:20270314T070000
END:DAYLIGHT
BEGIN:STANDARD
TZOFFSETFROM:-0400
TZOFFSETTO:-0500
TZNAME:EST
DTSTART:20271107T060000
END:STANDARD
END:VTIMEZONE
BEGIN:VEVENT
DTSTART;VALUE=DATE:20260119
DTEND;VALUE=DATE:20260120
DTSTAMP:20260422T041043
CREATED:20191227T215656Z
LAST-MODIFIED:20260112T134143Z
UID:13594-1768780800-1768867199@auburndalefl.com
SUMMARY:Martin Luther King Jr. Day (Holiday)
DESCRIPTION:City offices are closed in observance of Martin Luther King Jr. Day
URL:https://auburndalefl.com/event/martin-luther-king-jr-day-holiday/
LOCATION:City of Auburndale\, Auburndale\, FL\, 33823\, United States
CATEGORIES:Holidays and Special Days
ATTACH;FMTTYPE=image/jpeg:https://auburndalefl.com/wp-content/uploads/2019/12/Martin-luther-king.jpg
END:VEVENT
BEGIN:VEVENT
DTSTART;VALUE=DATE:20260115
DTEND;VALUE=DATE:20260120
DTSTAMP:20260422T041043
CREATED:20240104T152940Z
LAST-MODIFIED:20260113T161621Z
UID:25931-1768435200-1768867199@auburndalefl.com
SUMMARY:Florida Adult Soccer Association: Florida Classic
DESCRIPTION:Florida Adult Soccer Association – Florida Classic \nFor more information\, please visit https://www.fasa.soccer/
URL:https://auburndalefl.com/event/florida-adult-soccer-association-florida-classic/
LOCATION:Lake Myrtle Sports Park\, 2701 Lake Myrtle Park Road\, Auburndale\, FL\, 33823\, United States
CATEGORIES:Sports Events
ATTACH;FMTTYPE=image/png:https://auburndalefl.com/wp-content/uploads/2024/01/Lake-Myrtle-Park.png
END:VEVENT
BEGIN:VEVENT
DTSTART;VALUE=DATE:20260101
DTEND;VALUE=DATE:20260102
DTSTAMP:20260422T041043
CREATED:20221221T183254Z
LAST-MODIFIED:20251208T142901Z
UID:23023-1767225600-1767311999@auburndalefl.com
SUMMARY:New Year's Day (City Holiday)
DESCRIPTION:Offices and facilities will be closed on Thursday\, January 1\, 2026\, in observance of New Year’s Day.
URL:https://auburndalefl.com/event/new-years-day-city-holiday/
LOCATION:FL
CATEGORIES:Holidays and Special Days
ATTACH;FMTTYPE=image/jpeg:https://auburndalefl.com/wp-content/uploads/2019/12/NY2020.jpeg
END:VEVENT
BEGIN:VEVENT
DTSTART;VALUE=DATE:20251231
DTEND;VALUE=DATE:20260101
DTSTAMP:20260422T041043
CREATED:20201221T190102Z
LAST-MODIFIED:20251208T142841Z
UID:16710-1767139200-1767225599@auburndalefl.com
SUMMARY:New Year's Eve
DESCRIPTION:It’s the final day of 2025!
URL:https://auburndalefl.com/event/new-years-eve/
LOCATION:FL
CATEGORIES:Holidays and Special Days
ATTACH;FMTTYPE=image/jpeg:https://auburndalefl.com/wp-content/uploads/2019/12/NY2020.jpeg
END:VEVENT
BEGIN:VEVENT
DTSTART;VALUE=DATE:20251225
DTEND;VALUE=DATE:20251226
DTSTAMP:20260422T041043
CREATED:20221205T165328Z
LAST-MODIFIED:20251201T135730Z
UID:22821-1766620800-1766707199@auburndalefl.com
SUMMARY:Christmas (Holiday)
DESCRIPTION:City offices will be closed in observation of the Christmas holiday.
URL:https://auburndalefl.com/event/city-holiday-christmas-2/
LOCATION:FL
CATEGORIES:Holidays and Special Days
ATTACH;FMTTYPE=image/jpeg:https://auburndalefl.com/wp-content/uploads/2019/12/Christmas-Web-Banner.jpg
END:VEVENT
BEGIN:VEVENT
DTSTART;VALUE=DATE:20251224
DTEND;VALUE=DATE:20251225
DTSTAMP:20260422T041043
CREATED:20191216T140511Z
LAST-MODIFIED:20251201T135748Z
UID:13486-1766534400-1766620799@auburndalefl.com
SUMMARY:Christmas Eve (Holiday)
DESCRIPTION:Have a wonderful Christmas Eve! City offices and facilities are closed today.
URL:https://auburndalefl.com/event/christmas-eve-holiday/
LOCATION:FL
CATEGORIES:Holidays and Special Days
ATTACH;FMTTYPE=image/jpeg:https://auburndalefl.com/wp-content/uploads/2019/12/Christmas-Web-Banner.jpg
END:VEVENT
BEGIN:VEVENT
DTSTART;TZID=America/New_York:20251206T090000
DTEND;TZID=America/New_York:20251206T110000
DTSTAMP:20260422T041043
CREATED:20191112T160946Z
LAST-MODIFIED:20251206T135018Z
UID:13218-1765011600-1765018800@auburndalefl.com
SUMMARY:Breakfast with Santa
DESCRIPTION:UPDATE: This event is SOLD OUT. \nBreakfast with Santa is on Saturday\, December 6\, from 9 AM to 11 AM\, at the Lake Ariana Park Auburndale Civic Center. Enjoy a fun morning complete with a breakfast buffet\, crafts\, games\, and some quality time with Santa Claus. Address: 2220 Lake Ariana Boulevard\, Auburndale\, FL 33823
URL:https://auburndalefl.com/event/breakfast-with-santa-2/
LOCATION:Auburndale Civic Center\, 115 W Park St\, Auburndale\, FL 33823\, Auburndale\, FL\, 33823\, United States
CATEGORIES:City Events
ATTACH;FMTTYPE=image/jpeg:https://auburndalefl.com/wp-content/uploads/2019/12/Christmas-Web-Banner.jpg
END:VEVENT
BEGIN:VEVENT
DTSTART;TZID=America/New_York:20251205T190000
DTEND;TZID=America/New_York:20251205T210000
DTSTAMP:20260422T041043
CREATED:20191112T160546Z
LAST-MODIFIED:20251117T143552Z
UID:13215-1764961200-1764968400@auburndalefl.com
SUMMARY:Havendale Christmas Parade
DESCRIPTION:The Havendale Christmas Parade is on Friday\, December 5\, starting at 7 PM! The route is planned to begin at Spring Haven in Winter Haven and head west to the Publix in Auburndale. Roads will close at 6 PM. \n\nThis is our annual tradition when we team up with the City of Winter Haven to bring Christmas cheer to the streets of our cities. It’s a wonderful time to join along with family and friends to celebrate the holiday season!
URL:https://auburndalefl.com/event/havendale/
LOCATION:FL
CATEGORIES:City Events
ATTACH;FMTTYPE=image/jpeg:https://auburndalefl.com/wp-content/uploads/2019/12/Christmas-Web-Banner.jpg
END:VEVENT
BEGIN:VEVENT
DTSTART;TZID=America/New_York:20251204T170000
DTEND;TZID=America/New_York:20251204T210000
DTSTAMP:20260422T041043
CREATED:20191112T155949Z
LAST-MODIFIED:20251117T143704Z
UID:13212-1764867600-1764882000@auburndalefl.com
SUMMARY:Lights in the Park
DESCRIPTION:On Thursday\, December 4th\, from 5:00 to 9:00 P.M.\, there will be holiday festivities including music\, food trucks\, and more located at 120 W. Park Street! Come on by\, bring a friend or two\, and enjoy the holiday festivities! Tree lighting is at 7:00pm.
URL:https://auburndalefl.com/event/lights-in-the-park/
LOCATION:Historic Depot\, 120 W. Park Street\, Auburndale\, FL\, 33823\, United States
CATEGORIES:City Events
ATTACH;FMTTYPE=image/jpeg:https://auburndalefl.com/wp-content/uploads/2019/12/Christmas-Web-Banner.jpg
END:VEVENT
BEGIN:VEVENT
DTSTART;VALUE=DATE:20251128
DTEND;VALUE=DATE:20251129
DTSTAMP:20260422T041043
CREATED:20201112T202010Z
LAST-MODIFIED:20251021T175155Z
UID:16462-1764288000-1764374399@auburndalefl.com
SUMMARY:Friday After Thanksgiving (Holiday)
DESCRIPTION:City Offices will be closed for the Friday after Thanksgiving.
URL:https://auburndalefl.com/event/friday-after-thanksgiving-holiday/
LOCATION:FL
CATEGORIES:Holidays and Special Days
ATTACH;FMTTYPE=image/jpeg:https://auburndalefl.com/wp-content/uploads/2019/11/Happy-Thanksgiving-Cropped.jpg
END:VEVENT
BEGIN:VEVENT
DTSTART;VALUE=DATE:20251127
DTEND;VALUE=DATE:20251128
DTSTAMP:20260422T041043
CREATED:20191122T211618Z
LAST-MODIFIED:20251021T175214Z
UID:13312-1764201600-1764287999@auburndalefl.com
SUMMARY:Thanksgiving (Holiday)
DESCRIPTION:City facilities will be closed for Thursday\, November 27 and Friday\, November 28.
URL:https://auburndalefl.com/event/thanksgiving-holiday/
LOCATION:FL
CATEGORIES:Holidays and Special Days
ATTACH;FMTTYPE=image/jpeg:https://auburndalefl.com/wp-content/uploads/2019/11/Happy-Thanksgiving-Cropped.jpg
END:VEVENT
BEGIN:VEVENT
DTSTART;VALUE=DATE:20251112
DTEND;VALUE=DATE:20251113
DTSTAMP:20260422T041043
CREATED:20231106T191443Z
LAST-MODIFIED:20251105T210834Z
UID:25488-1762905600-1762991999@auburndalefl.com
SUMMARY:Notice of Voting System Audit
DESCRIPTION:Pursuant to 101.591 F.S.\, the City of Auburndale Canvassing Board will meet at 11:00 a.m.\, Wednesday\, November 12 at the Elections Operations Center\, 70 Florida Citrus Blvd.\, Winter Haven\, FL 33880 for the purpose of the manual audit of the November 4\, 2025 Election and will remain in session until the audit has been completed. Please CLICK HERE for the PDF version containing relevant information.
URL:https://auburndalefl.com/event/notice-of-voting-system-audit/
LOCATION:FL
CATEGORIES:City Events
ATTACH;FMTTYPE=image/png:https://auburndalefl.com/wp-content/uploads/2023/11/City-of-Auburndale-Seal-2022-Multicolor-Transparent.png
END:VEVENT
BEGIN:VEVENT
DTSTART;TZID=America/New_York:20251111T110000
DTEND;TZID=America/New_York:20251111T130000
DTSTAMP:20260422T041043
CREATED:20211020T152939Z
LAST-MODIFIED:20251021T175055Z
UID:19499-1762858800-1762866000@auburndalefl.com
SUMMARY:Veterans Day Ceremony
DESCRIPTION:Veterans Day will be on Tuesday\, November 11\, this year. Our annual joint ceremony with the City of Lake Alfred will be hosted in Lake Alfred at Frank C. Gardner Park\, US HWY 1792 and Main Street\, Lake Alfred. Featuring the unveiling of the Lake Alfred Military Heritage Monument. Program starts at 11:00 A.M.
URL:https://auburndalefl.com/event/veterans-day-ceremony/
LOCATION:FL
CATEGORIES:City Events,Holidays and Special Days
ATTACH;FMTTYPE=image/jpeg:https://auburndalefl.com/wp-content/uploads/2019/06/American-Event-Web.jpg
END:VEVENT
BEGIN:VEVENT
DTSTART;VALUE=DATE:20251111
DTEND;VALUE=DATE:20251112
DTSTAMP:20260422T041043
CREATED:20201012T133113Z
LAST-MODIFIED:20251021T174650Z
UID:16249-1762819200-1762905599@auburndalefl.com
SUMMARY:Veterans Day (Holiday)
DESCRIPTION:City offices will be closed in observance of Veterans Day on Tuesday\, November 11\, 2025.
URL:https://auburndalefl.com/event/veterans-day-holiday/
LOCATION:FL
CATEGORIES:Holidays and Special Days
ATTACH;FMTTYPE=image/jpeg:https://auburndalefl.com/wp-content/uploads/2019/06/American-Event-Web.jpg
END:VEVENT
BEGIN:VEVENT
DTSTART;TZID=America/New_York:20251110T073000
DTEND;TZID=America/New_York:20251110T093000
DTSTAMP:20260422T041043
CREATED:20251104T152026Z
LAST-MODIFIED:20251104T152026Z
UID:29356-1762759800-1762767000@auburndalefl.com
SUMMARY:Heroes Remembered
DESCRIPTION:Join us on Monday\, November 10th at Auburndale Memorial Park Cemetery for Heroes Remembered. Anyone interested in placing a flag on a Veteran’s marker is welcome to attend. We will have flags and staff will help guide you on where to go.\n\n\n \n\n\nThis is a great opportunity to honor veterans for Veterans Day.\n\n\n \n\n\nFor more information\, please contact Parks & Rec. at (863) 965-5545.
URL:https://auburndalefl.com/event/heroes-remembered/
LOCATION:FL
CATEGORIES:Community Events
ATTACH;FMTTYPE=image/png:https://auburndalefl.com/wp-content/uploads/2025/11/Heroes-Remembered.png
END:VEVENT
BEGIN:VEVENT
DTSTART;TZID=America/New_York:20251107T120000
DTEND;TZID=America/New_York:20251107T160000
DTSTAMP:20260422T041043
CREATED:20231106T190549Z
LAST-MODIFIED:20251105T211028Z
UID:25478-1762516800-1762531200@auburndalefl.com
SUMMARY:Post-Election Certification Voting System Audit
DESCRIPTION:“Pursuant to Rule 1S-5.026\, the City of Auburndale Canvassing Board will meet at 12:00 p.m. November 7\, 2025 in the Commission Room of City Hall\, One Bobby Green Plaza\, Auburndale\, FL 33823 for the purpose of selecting a race for the manual audit of the City Election held on November 4\, 2025.” \nPlease CLICK HERE for the PDF version of this document. \n  \n 
URL:https://auburndalefl.com/event/post-election-certification-voting-system-audit/
LOCATION:FL
CATEGORIES:City Events
ATTACH;FMTTYPE=image/png:https://auburndalefl.com/wp-content/uploads/2023/11/City-of-Auburndale-Seal-2022-Multicolor-Transparent.png
END:VEVENT
BEGIN:VEVENT
DTSTART;TZID=America/New_York:20251104T070000
DTEND;TZID=America/New_York:20251104T190000
DTSTAMP:20260422T041043
CREATED:20220816T200728Z
LAST-MODIFIED:20251021T181213Z
UID:21845-1762239600-1762282800@auburndalefl.com
SUMMARY:Municipal Election Day
DESCRIPTION:https://auburndalefl.com/elections/
URL:https://auburndalefl.com/event/primary-election-day/
LOCATION:Auburndale Civic Center\, 115 W Park St\, Auburndale\, FL 33823\, Auburndale\, FL\, 33823\, United States
CATEGORIES:City Events
ATTACH;FMTTYPE=image/jpeg:https://auburndalefl.com/wp-content/uploads/2019/06/American-Event-Web.jpg
END:VEVENT
BEGIN:VEVENT
DTSTART;TZID=America/New_York:20251016T180000
DTEND;TZID=America/New_York:20251016T210000
DTSTAMP:20260422T041043
CREATED:20210922T155804Z
LAST-MODIFIED:20250909T204741Z
UID:19247-1760637600-1760648400@auburndalefl.com
SUMMARY:Bloodhound Bash / Fall-O-Ween
DESCRIPTION:Auburndale High School‘s Bloodhound Bash and the Auburndale Chamber of Commerce‘s Fall-O-Ween festivities will be on Thursday\, October 16\, 2025. The Bloodhound Bash parade will begin at 6:00 P.M. and follow the same route as last year.\n\n\n\nInterested vendors may reach out to parks-rec@auburndalefl.com or call (863) 965-5545.
URL:https://auburndalefl.com/event/bloodhound-bash/
LOCATION:Downtown City Park\, 1 Bobby Green Plaza\, Auburndale\, FL 33823\, Auburndale\, FL\, 33823\, United States
CATEGORIES:Community Events
ATTACH;FMTTYPE=image/png:https://auburndalefl.com/wp-content/uploads/2024/01/City-of-Auburndale-Seal-2022-Multicolor-Transparent.png
END:VEVENT
BEGIN:VEVENT
DTSTART;TZID=America/New_York:20251011T190000
DTEND;TZID=America/New_York:20251011T220000
DTSTAMP:20260422T041043
CREATED:20250902T201633Z
LAST-MODIFIED:20250908T174512Z
UID:29065-1760209200-1760220000@auburndalefl.com
SUMMARY:APD's Badge of Hope Haunted 5K
DESCRIPTION:Please follow this link for more information: Badge of Hope Haunted 5K
URL:https://auburndalefl.com/event/apds-badge-of-hope-haunted-5k/
LOCATION:FL
CATEGORIES:City Events,Community Events
END:VEVENT
BEGIN:VEVENT
DTSTART;VALUE=DATE:20251003
DTEND;VALUE=DATE:20251006
DTSTAMP:20260422T041043
CREATED:20230929T132010Z
LAST-MODIFIED:20250916T155831Z
UID:25058-1759449600-1759708799@auburndalefl.com
SUMMARY:ProspectWire Fall World Series
DESCRIPTION:A Baseball Event at Lake Myrtle Sports Complex. \nFor more information about ProspectWire: https://www.facebook.com/ProspectWire/ or https://play.prospectwire.com/events/fall-world-series-polk-county-10-03-2025
URL:https://auburndalefl.com/event/prospectwire-auburndale-winter-classic/
LOCATION:Lake Myrtle Sports Park\, 2701 Lake Myrtle Park Road\, Auburndale\, FL\, 33823\, United States
CATEGORIES:Sports Events
ATTACH;FMTTYPE=image/png:https://auburndalefl.com/wp-content/uploads/2024/01/Lake-Myrtle-Park.png
END:VEVENT
BEGIN:VEVENT
DTSTART;VALUE=DATE:20250919
DTEND;VALUE=DATE:20250922
DTSTAMP:20260422T041043
CREATED:20210922T151039Z
LAST-MODIFIED:20250916T155557Z
UID:19241-1758240000-1758499199@auburndalefl.com
SUMMARY:Community: Auburndale VW Bug Fest
DESCRIPTION:The 7th annual Auburndale VW Bug Fest at the Lake Myrtle Sports Park. For more information\, please visit: https://www.facebook.com/events/lake-myrtle-sports-complex/7th-annual-auburndale-bug-fest/637247708976259/ \n 
URL:https://auburndalefl.com/event/auburndale-bug-fest/
LOCATION:Lake Myrtle Sports Park\, 2701 Lake Myrtle Park Road\, Auburndale\, FL\, 33823\, United States
CATEGORIES:Community Events
ATTACH;FMTTYPE=image/png:https://auburndalefl.com/wp-content/uploads/2024/01/Lake-Myrtle-Park.png
END:VEVENT
BEGIN:VEVENT
DTSTART;TZID=America/New_York:20250913T090000
DTEND;TZID=America/New_York:20250913T103000
DTSTAMP:20260422T041043
CREATED:20200820T160107Z
LAST-MODIFIED:20250902T200557Z
UID:15821-1757754000-1757759400@auburndalefl.com
SUMMARY:Community: Auburndale Youth Soccer Opening Day
DESCRIPTION:Join us on Saturday\, September 13\, for opening day ceremonies at Lake Myrtle Sports Complex’s Orlando Health Stadium in Auburndale\, Florida. Opening Ceremonies begin at 9 A.M. \n 
URL:https://auburndalefl.com/event/sports6/
LOCATION:Lake Myrtle Sports Park\, 2701 Lake Myrtle Park Road\, Auburndale\, FL\, 33823\, United States
CATEGORIES:Community Events,Sports Events
ATTACH;FMTTYPE=image/png:https://auburndalefl.com/wp-content/uploads/2020/08/Lake-Myrtle-Park-Small.png
END:VEVENT
BEGIN:VEVENT
DTSTART;VALUE=DATE:20250911
DTEND;VALUE=DATE:20250912
DTSTAMP:20260422T041043
CREATED:20190906T170937Z
LAST-MODIFIED:20250813T182334Z
UID:12577-1757548800-1757635199@auburndalefl.com
SUMMARY:Patriot Day
DESCRIPTION:September 11 is Patriot Day\, a day in which we remember and honor those who perished in the terrorist attacks of September 11\, 2001. Please take a moment to remember the lives lost on that day and the heroic response from firefighters\, rescue personnel\, law enforcement personnel\, military service members\, and other citizens.
URL:https://auburndalefl.com/event/patriot-day/
LOCATION:FL
CATEGORIES:Holidays and Special Days
ATTACH;FMTTYPE=image/jpeg:https://auburndalefl.com/wp-content/uploads/2019/06/American-Event-Web.jpg
END:VEVENT
BEGIN:VEVENT
DTSTART;VALUE=DATE:20250909
DTEND;VALUE=DATE:20250910
DTSTAMP:20260422T041043
CREATED:20240213T154246Z
LAST-MODIFIED:20250902T200447Z
UID:26229-1757376000-1757462399@auburndalefl.com
SUMMARY:Miss Auburndale Softball Opening Ceremonies
DESCRIPTION:Tuesday\, September 9th at 7:00 P.M. \nFor more information\, please visit https://www.facebook.com/p/Miss-Auburndale-Softball-Inc-100064116730497/
URL:https://auburndalefl.com/event/miss-auburndale-softball-opening-day/
LOCATION:FL
CATEGORIES:Sports Events
ATTACH;FMTTYPE=image/png:https://auburndalefl.com/wp-content/uploads/2024/01/Lake-Myrtle-Park.png
END:VEVENT
BEGIN:VEVENT
DTSTART;VALUE=DATE:20250905
DTEND;VALUE=DATE:20250908
DTSTAMP:20260422T041043
CREATED:20210608T194041Z
LAST-MODIFIED:20250902T200641Z
UID:18218-1757030400-1757289599@auburndalefl.com
SUMMARY:Perfect Game Season Opener
DESCRIPTION:https://www.perfectgame.org/
URL:https://auburndalefl.com/event/sports1/
LOCATION:Lake Myrtle Sports Park\, 2701 Lake Myrtle Park Road\, Auburndale\, FL\, 33823\, United States
CATEGORIES:Sports Events
ATTACH;FMTTYPE=image/png:https://auburndalefl.com/wp-content/uploads/2020/08/Lake-Myrtle-Park-Small.png
END:VEVENT
BEGIN:VEVENT
DTSTART;VALUE=DATE:20250901
DTEND;VALUE=DATE:20250902
DTSTAMP:20260422T041043
CREATED:20190819T184056Z
LAST-MODIFIED:20250813T182300Z
UID:12309-1756684800-1756771199@auburndalefl.com
SUMMARY:Labor Day (City Holiday)
DESCRIPTION:September 1\, 2025 is Labor Day! City Offices and Facilities will be closed in observance of this holiday.
URL:https://auburndalefl.com/event/labor-day-city-holiday/
LOCATION:FL
CATEGORIES:Holidays and Special Days
ATTACH;FMTTYPE=image/png:https://auburndalefl.com/wp-content/uploads/2022/08/City-Seal-Website-7-22.png
END:VEVENT
BEGIN:VEVENT
DTSTART;VALUE=DATE:20250811
DTEND;VALUE=DATE:20250812
DTSTAMP:20260422T041043
CREATED:20230522T153931Z
LAST-MODIFIED:20250718T144823Z
UID:24067-1754870400-1754956799@auburndalefl.com
SUMMARY:First Day of School (Polk County Public Schools)
DESCRIPTION:Welcome back to school! We wish everyone an excellent 2025-2026 school year!
URL:https://auburndalefl.com/event/pcps-day/
LOCATION:FL
CATEGORIES:Holidays and Special Days
ATTACH;FMTTYPE=image/png:https://auburndalefl.com/wp-content/uploads/2023/05/PCPSCareerAcdmsStacked_PMS_OL.png
END:VEVENT
BEGIN:VEVENT
DTSTART;TZID=America/New_York:20250802T090000
DTEND;TZID=America/New_York:20250802T120000
DTSTAMP:20260422T041043
CREATED:20190715T210004Z
LAST-MODIFIED:20250717T202659Z
UID:12138-1754125200-1754136000@auburndalefl.com
SUMMARY:Back to School Bash
DESCRIPTION:Please see Flyer below.\n\n\nFree haircuts provided by Fine Line Barbershop. Orlando Health will provide immunizations and check-ups.\n\n\n\n\nWe would like to invite individuals and organizations in our community to donate school supplies to help out with the event. We also have a limited amount of space for organizations to set up a table to offer supplies or information for parents.\n\n\n\nPlease reach out to our Community Center Supervisor Damone Morris at dmorris2@auburndalefl.com as soon as possible. Please include company/school/organization name\, address\, contact information\, and what you would like to provide to the community.\n\n\n\nAnyone that needs community service hours can also contact the Community Center Supervisor to volunteer.
URL:https://auburndalefl.com/event/back-to-school-bash/
LOCATION:Auburndale Community Center\, 405 Bennett Street\, Auburndale\, FL\, 33823\, United States
CATEGORIES:City Events,Community Center Events
ATTACH;FMTTYPE=image/png:https://auburndalefl.com/wp-content/uploads/2022/08/City-Seal-Website-7-22.png
END:VEVENT
BEGIN:VEVENT
DTSTART;VALUE=DATE:20250728
DTEND;VALUE=DATE:20250803
DTSTAMP:20260422T041043
CREATED:20220111T211802Z
LAST-MODIFIED:20250721T123514Z
UID:20206-1753660800-1754179199@auburndalefl.com
SUMMARY:Public Library Closed: Inventory and Cleaning
DESCRIPTION:The Auburndale Public Library will be closed from Monday\, July 28th to Saturday\, August 2nd for inventory.
URL:https://auburndalefl.com/event/community-open-house-lake-ariana-park/
LOCATION:FL
CATEGORIES:City Events
ATTACH;FMTTYPE=image/png:https://auburndalefl.com/wp-content/uploads/2022/08/City-Seal-Website-7-22.png
END:VEVENT
BEGIN:VEVENT
DTSTART;VALUE=DATE:20250704
DTEND;VALUE=DATE:20250705
DTSTAMP:20260422T041043
CREATED:20190620T133204Z
LAST-MODIFIED:20250702T151436Z
UID:12018-1751587200-1751673599@auburndalefl.com
SUMMARY:Independence Day (City Holiday)
DESCRIPTION:City Facilities will be closed in observance of Independence Day on Friday\, July 4\, 2025
URL:https://auburndalefl.com/event/independence-day-city-holiday/
LOCATION:FL
CATEGORIES:Holidays and Special Days
ATTACH;FMTTYPE=image/jpeg:https://auburndalefl.com/wp-content/uploads/2019/06/American-Event-Web.jpg
END:VEVENT
END:VCALENDAR