BEGIN:VCALENDAR
VERSION:2.0
PRODID:-//City of Auburndale - ECPv6.15.20//NONSGML v1.0//EN
CALSCALE:GREGORIAN
METHOD:PUBLISH
X-WR-CALNAME:City of Auburndale
X-ORIGINAL-URL:https://auburndalefl.com
X-WR-CALDESC:Events for City of Auburndale
REFRESH-INTERVAL;VALUE=DURATION:PT1H
X-Robots-Tag:noindex
X-PUBLISHED-TTL:PT1H
BEGIN:VTIMEZONE
TZID:America/New_York
BEGIN:DAYLIGHT
TZOFFSETFROM:-0500
TZOFFSETTO:-0400
TZNAME:EDT
DTSTART:20220313T070000
END:DAYLIGHT
BEGIN:STANDARD
TZOFFSETFROM:-0400
TZOFFSETTO:-0500
TZNAME:EST
DTSTART:20221106T060000
END:STANDARD
BEGIN:DAYLIGHT
TZOFFSETFROM:-0500
TZOFFSETTO:-0400
TZNAME:EDT
DTSTART:20230312T070000
END:DAYLIGHT
BEGIN:STANDARD
TZOFFSETFROM:-0400
TZOFFSETTO:-0500
TZNAME:EST
DTSTART:20231105T060000
END:STANDARD
BEGIN:DAYLIGHT
TZOFFSETFROM:-0500
TZOFFSETTO:-0400
TZNAME:EDT
DTSTART:20240310T070000
END:DAYLIGHT
BEGIN:STANDARD
TZOFFSETFROM:-0400
TZOFFSETTO:-0500
TZNAME:EST
DTSTART:20241103T060000
END:STANDARD
BEGIN:DAYLIGHT
TZOFFSETFROM:-0500
TZOFFSETTO:-0400
TZNAME:EDT
DTSTART:20250309T070000
END:DAYLIGHT
BEGIN:STANDARD
TZOFFSETFROM:-0400
TZOFFSETTO:-0500
TZNAME:EST
DTSTART:20251102T060000
END:STANDARD
BEGIN:DAYLIGHT
TZOFFSETFROM:-0500
TZOFFSETTO:-0400
TZNAME:EDT
DTSTART:20260308T070000
END:DAYLIGHT
BEGIN:STANDARD
TZOFFSETFROM:-0400
TZOFFSETTO:-0500
TZNAME:EST
DTSTART:20261101T060000
END:STANDARD
END:VTIMEZONE
BEGIN:VEVENT
DTSTART;TZID=America/New_York:20250114T180000
DTEND;TZID=America/New_York:20250114T200000
DTSTAMP:20260422T114415
CREATED:20240807T144825Z
LAST-MODIFIED:20250102T200830Z
UID:27034-1736877600-1736884800@auburndalefl.com
SUMMARY:Comp. Plan Public Workshop #2
DESCRIPTION:We want to hear from you! Join us for the second public workshop on Tuesday\, January 14th\, from 5:30pm to 7:30pm\, at the Auburndale Community Center\, 405 Bennett Street\, Auburndale\, FL 33823. \nPlease visit this website: https://www.inspire-engagement.com/auburndale-comp-plan \n\nHave a question or comment about the City of Auburndale 2050 Comprehensive Plan Update project? Please consider contacting City Staff through the channels below: \n\n\n\n\nName\nAuburndale Community Development Department\n\n\nPhone\n(863) 965-5530\n\n\nEmail\njwomble@auburndalefl.com
URL:https://auburndalefl.com/event/comp-plan-public-workshop/
LOCATION:Auburndale Senior Center\, 109 West Park Street\, Auburndale\, FL\, 33823\, United States
CATEGORIES:Community Events
END:VEVENT
BEGIN:VEVENT
DTSTART;TZID=America/New_York:20241102T090000
DTEND;TZID=America/New_York:20241102T140000
DTSTAMP:20260422T114415
CREATED:20190925T175752Z
LAST-MODIFIED:20240926T130326Z
UID:12688-1730538000-1730556000@auburndalefl.com
SUMMARY:Auburndale FallFest
DESCRIPTION:Auburndale FallFest is coming up on Saturday\, November 2\, in the Downtown City Park. From 9 AM to 2 PM\, explore our outdoor fall market and enjoy fun games\, live music\, and crafts that kids will love! Vendor applications will be accepted starting on Tuesday\, October 1\, 2024. \nCLICK THIS LINK HERE TO ACCESS THE FALLFEST VENDOR APPLICATION: FALLFEST VENDOR APPLICATION LINK \n\nPlease see here for important FallFest dates:\n\n\n– 10/1/24: Applications Open/Accepted.\n\n\n– 10/22/24: Deadline to submit applications.\n\n\n– 10/25/24: Date approved vendors will be notified/contacted by/before via email.\n\n\n– 10/29/24: Payment for space(s) to be made this day no later than 5pm; failure to do so will result in loss of approval/space(s).\n\n\n \n\n\nIf vendors do not pay by 10/29/24\, their space will be offered to the next approved vendor and confirmed upon payment on a first come\, first serve basis.
URL:https://auburndalefl.com/event/auburndale-fallfest/
LOCATION:Downtown City Park\, 1 Bobby Green Plaza\, Auburndale\, FL 33823\, Auburndale\, FL\, 33823\, United States
CATEGORIES:City Events
ATTACH;FMTTYPE=image/png:https://auburndalefl.com/wp-content/uploads/2019/09/cornucopia-e1698242121789.png
END:VEVENT
BEGIN:VEVENT
DTSTART;TZID=America/New_York:20241024T180000
DTEND;TZID=America/New_York:20241024T203000
DTSTAMP:20260422T114415
CREATED:20201012T202850Z
LAST-MODIFIED:20241018T180324Z
UID:16288-1729792800-1729801800@auburndalefl.com
SUMMARY:Auburndale Chamber's Fall-o-Ween
DESCRIPTION:
URL:https://auburndalefl.com/event/halloween-harvest/
LOCATION:Downtown City Park\, 1 Bobby Green Plaza\, Auburndale\, FL 33823\, Auburndale\, FL\, 33823\, United States
CATEGORIES:Community Events
ATTACH;FMTTYPE=image/jpeg:https://auburndalefl.com/wp-content/uploads/2020/10/Chamber-Logo.jpg
END:VEVENT
BEGIN:VEVENT
DTSTART;VALUE=DATE:20240720
DTEND;VALUE=DATE:20240725
DTSTAMP:20260422T114415
CREATED:20240603T123959Z
LAST-MODIFIED:20240603T124104Z
UID:26794-1721433600-1721865599@auburndalefl.com
SUMMARY:WABA INT World Classic
DESCRIPTION:Baseball \nFor more information regarding WABA\, please refer to: https://www.wabafloridabaseball.com/
URL:https://auburndalefl.com/event/waba-int-world-classic/
LOCATION:Lake Myrtle Sports Park\, 2701 Lake Myrtle Park Road\, Auburndale\, FL\, 33823\, United States
CATEGORIES:Sports Events
ATTACH;FMTTYPE=image/png:https://auburndalefl.com/wp-content/uploads/2024/01/Lake-Myrtle-Park.png
END:VEVENT
BEGIN:VEVENT
DTSTART;VALUE=DATE:20240712
DTEND;VALUE=DATE:20240715
DTSTAMP:20260422T114415
CREATED:20230929T131846Z
LAST-MODIFIED:20240603T124133Z
UID:25055-1720742400-1721001599@auburndalefl.com
SUMMARY:WABA Battle of the Best
DESCRIPTION:Baseball tournament held at Lake Myrtle Sports Complex. \nFor more information regarding WABA\, please refer to: https://www.wabafloridabaseball.com/
URL:https://auburndalefl.com/event/waba-fall-nationals/
LOCATION:Lake Myrtle Sports Park\, 2701 Lake Myrtle Park Road\, Auburndale\, FL\, 33823\, United States
CATEGORIES:Sports Events
ATTACH;FMTTYPE=image/png:https://auburndalefl.com/wp-content/uploads/2024/01/Lake-Myrtle-Park.png
END:VEVENT
BEGIN:VEVENT
DTSTART;VALUE=DATE:20240705
DTEND;VALUE=DATE:20240709
DTSTAMP:20260422T114415
CREATED:20240603T123614Z
LAST-MODIFIED:20240603T123714Z
UID:26787-1720137600-1720483199@auburndalefl.com
SUMMARY:Perfect Game Florida Elite Championship
DESCRIPTION:Baseball \nJuly 5 – July 8 \nhttps://www.perfectgame.org/
URL:https://auburndalefl.com/event/perfect-game-florida-elite-championship/
LOCATION:Lake Myrtle Sports Park\, 2701 Lake Myrtle Park Road\, Auburndale\, FL\, 33823\, United States
CATEGORIES:Sports Events
ATTACH;FMTTYPE=image/png:https://auburndalefl.com/wp-content/uploads/2024/01/Lake-Myrtle-Park.png
END:VEVENT
BEGIN:VEVENT
DTSTART;VALUE=DATE:20240621
DTEND;VALUE=DATE:20240628
DTSTAMP:20260422T114415
CREATED:20240522T132200Z
LAST-MODIFIED:20240522T132200Z
UID:26760-1718928000-1719532799@auburndalefl.com
SUMMARY:U.S. Youth Soccer Southern Regional Championships
DESCRIPTION:June 21 – June 27 \nFor more information\, please visit: https://www.usyouthsoccer.org/southern-regional-championships/
URL:https://auburndalefl.com/event/u-s-youth-soccer-southern-regional-championships/
LOCATION:Lake Myrtle Sports Park\, 2701 Lake Myrtle Park Road\, Auburndale\, FL\, 33823\, United States
CATEGORIES:Sports Events
ATTACH;FMTTYPE=image/png:https://auburndalefl.com/wp-content/uploads/2024/01/Lake-Myrtle-Park.png
END:VEVENT
BEGIN:VEVENT
DTSTART;VALUE=DATE:20240621
DTEND;VALUE=DATE:20240625
DTSTAMP:20260422T114415
CREATED:20240501T121212Z
LAST-MODIFIED:20240603T122957Z
UID:26655-1718928000-1719273599@auburndalefl.com
SUMMARY:Perfect Game National Org. Challenge
DESCRIPTION:June 21 – June 24 \nhttps://www.perfectgame.org/
URL:https://auburndalefl.com/event/perfect-game-sunshine-state-invitational/
LOCATION:Lake Myrtle Sports Park\, 2701 Lake Myrtle Park Road\, Auburndale\, FL\, 33823\, United States
CATEGORIES:Sports Events
ATTACH;FMTTYPE=image/png:https://auburndalefl.com/wp-content/uploads/2024/01/Lake-Myrtle-Park.png
END:VEVENT
BEGIN:VEVENT
DTSTART;VALUE=DATE:20240614
DTEND;VALUE=DATE:20240615
DTSTAMP:20260422T114415
CREATED:20210614T133501Z
LAST-MODIFIED:20240607T135332Z
UID:18282-1718323200-1718409599@auburndalefl.com
SUMMARY:Flag Day
DESCRIPTION:
URL:https://auburndalefl.com/event/flag-day/
CATEGORIES:Holidays and Special Days
ATTACH;FMTTYPE=image/jpeg:https://auburndalefl.com/wp-content/uploads/2019/06/American-Event-Web.jpg
END:VEVENT
BEGIN:VEVENT
DTSTART;VALUE=DATE:20240608
DTEND;VALUE=DATE:20240610
DTSTAMP:20260422T114415
CREATED:20210608T194317Z
LAST-MODIFIED:20240513T122746Z
UID:18221-1717804800-1717977599@auburndalefl.com
SUMMARY:WABA Florida Cup
DESCRIPTION:World Amateur Baseball Association. \nJune 8 – 9 \nFor more information\, please visit https://www.wabafloridabaseball.com/
URL:https://auburndalefl.com/event/sports2/
LOCATION:Lake Myrtle Sports Park\, 2701 Lake Myrtle Park Road\, Auburndale\, FL\, 33823\, United States
CATEGORIES:Sports Events
ATTACH;FMTTYPE=image/png:https://auburndalefl.com/wp-content/uploads/2020/08/Lake-Myrtle-Park-Small.png
END:VEVENT
BEGIN:VEVENT
DTSTART;VALUE=DATE:20240601
DTEND;VALUE=DATE:20240603
DTSTAMP:20260422T114415
CREATED:20230929T133737Z
LAST-MODIFIED:20240513T122543Z
UID:25079-1717200000-1717372799@auburndalefl.com
SUMMARY:FYSA ODP Pool Training
DESCRIPTION:June 1 to June 2 \nLocation: Lake Myrtle Sports Complex \nFor more information\, please refer to FYSA’s website: https://www.fysa.com/
URL:https://auburndalefl.com/event/fysa-odp-pool-training/
LOCATION:Lake Myrtle Sports Park\, 2701 Lake Myrtle Park Road\, Auburndale\, FL\, 33823\, United States
CATEGORIES:Sports Events
ATTACH;FMTTYPE=image/png:https://auburndalefl.com/wp-content/uploads/2024/01/Lake-Myrtle-Park.png
END:VEVENT
BEGIN:VEVENT
DTSTART;VALUE=DATE:20240525
DTEND;VALUE=DATE:20240528
DTSTAMP:20260422T114415
CREATED:20230928T185811Z
LAST-MODIFIED:20240507T123245Z
UID:25040-1716595200-1716854399@auburndalefl.com
SUMMARY:Prospectwire Memorial Weekend Classic
DESCRIPTION:A Baseball Event at Lake Myrtle Sports Complex. \nFor more information about ProspectWire: https://www.facebook.com/ProspectWire/
URL:https://auburndalefl.com/event/prospectwire-central-florida-showdown/
CATEGORIES:Sports Events
ATTACH;FMTTYPE=image/png:https://auburndalefl.com/wp-content/uploads/2024/01/Lake-Myrtle-Park.png
END:VEVENT
BEGIN:VEVENT
DTSTART;VALUE=DATE:20240517
DTEND;VALUE=DATE:20240520
DTSTAMP:20260422T114415
CREATED:20240501T121531Z
LAST-MODIFIED:20240501T121629Z
UID:26661-1715904000-1716163199@auburndalefl.com
SUMMARY:FYSA State Cup Finals
DESCRIPTION:May 17 to May 19 \nhttps://www.fysa.com/
URL:https://auburndalefl.com/event/fysa-state-cup-finals/
LOCATION:Lake Myrtle Sports Park\, 2701 Lake Myrtle Park Road\, Auburndale\, FL\, 33823\, United States
CATEGORIES:Sports Events
ATTACH;FMTTYPE=image/png:https://auburndalefl.com/wp-content/uploads/2024/01/Lake-Myrtle-Park.png
END:VEVENT
BEGIN:VEVENT
DTSTART;TZID=America/New_York:20240413T160000
DTEND;TZID=America/New_York:20240413T200000
DTSTAMP:20260422T114415
CREATED:20210107T205252Z
LAST-MODIFIED:20240327T184401Z
UID:16826-1713024000-1713038400@auburndalefl.com
SUMMARY:Community: Second Saturday Cruise In
DESCRIPTION:
URL:https://auburndalefl.com/event/cruise-in/
LOCATION:Downtown City Park\, 1 Bobby Green Plaza\, Auburndale\, FL 33823\, Auburndale\, FL\, 33823\, United States
CATEGORIES:Community Events
ATTACH;FMTTYPE=image/png:https://auburndalefl.com/wp-content/uploads/2019/04/Second-Saturday-Event.png
END:VEVENT
BEGIN:VEVENT
DTSTART;VALUE=DATE:20240408
DTEND;VALUE=DATE:20240413
DTSTAMP:20260422T114415
CREATED:20230321T195833Z
LAST-MODIFIED:20240325T134057Z
UID:23665-1712534400-1712966399@auburndalefl.com
SUMMARY:National Library Week
DESCRIPTION:Come celebrate National Library Week at the Auburndale Public Library! We will journey to Hogwarts on the magical Hogwarts Express! \nSchedule: \nMonday: Take part in the Tri-Wizard Games Scavenger Hunt \nTuesday: Make a wand at Ollivander’s Wand Shop \nWednesday: Enter in our Special Edition Harry Potter Book Set Giveaway (One Entry per Book Checked out) (Winner will be called on Friday). \nThursday: Grab your Hogwarts House’s Bookmark! \nFriday: Pick up your Special Edition Tote Bag with coloring pages\, printing coupons\, and much more!
URL:https://auburndalefl.com/event/national-library-week/
LOCATION:Auburndale Public Library\, 100 W Bridgers Avenue\, Auburndale\, FL\, 33823\, United States
CATEGORIES:Holidays and Special Days
END:VEVENT
BEGIN:VEVENT
DTSTART;VALUE=DATE:20240215
DTEND;VALUE=DATE:20240402
DTSTAMP:20260422T114415
CREATED:20240304T143620Z
LAST-MODIFIED:20240304T143620Z
UID:26380-1707955200-1712015999@auburndalefl.com
SUMMARY:The Spring Games 2024: THE MAIN EVENT (Softball)
DESCRIPTION:February 15th to April 1st. \nThe Spring Games 2024: THE MAIN EVENT \nSoftball \nFOR FULL SCHEDULE CLICK ON THIS TEXT! \nFor more information\, please see https://www.thespringgames.com/
URL:https://auburndalefl.com/event/the-spring-games-2024-the-main-event-softball/
END:VEVENT
BEGIN:VEVENT
DTSTART;VALUE=DATE:20240210
DTEND;VALUE=DATE:20240211
DTSTAMP:20260422T114415
CREATED:20240116T155714Z
LAST-MODIFIED:20240116T155745Z
UID:26013-1707523200-1707609599@auburndalefl.com
SUMMARY:Auburndale Youth Baseball Opening Day
DESCRIPTION:February 10th \nLake Myrtle Sports Complex \nFor more information\, please visit https://www.auburndaleyouthbaseball.com/
URL:https://auburndalefl.com/event/auburndale-youth-baseball-opening-day/
LOCATION:Lake Myrtle Sports Park\, 2701 Lake Myrtle Park Road\, Auburndale\, FL\, 33823\, United States
CATEGORIES:Sports Events
ATTACH;FMTTYPE=image/png:https://auburndalefl.com/wp-content/uploads/2024/01/Lake-Myrtle-Park.png
END:VEVENT
BEGIN:VEVENT
DTSTART;VALUE=DATE:20240127
DTEND;VALUE=DATE:20240129
DTSTAMP:20260422T114415
CREATED:20240104T155936Z
LAST-MODIFIED:20240116T154927Z
UID:25934-1706313600-1706486399@auburndalefl.com
SUMMARY:Polk County Soccer All-Star Rec Tournament
DESCRIPTION:January 27th to 28th. \nLocated at Lake Myrtle Sports Complex.
URL:https://auburndalefl.com/event/polk-county-soccer-all-star-rec-tournament/
LOCATION:Lake Myrtle Sports Park\, 2701 Lake Myrtle Park Road\, Auburndale\, FL\, 33823\, United States
CATEGORIES:Sports Events
ATTACH;FMTTYPE=image/png:https://auburndalefl.com/wp-content/uploads/2024/01/Lake-Myrtle-Park.png
END:VEVENT
BEGIN:VEVENT
DTSTART;VALUE=DATE:20240126
DTEND;VALUE=DATE:20240129
DTSTAMP:20260422T114415
CREATED:20230929T133043Z
LAST-MODIFIED:20240116T155429Z
UID:25066-1706227200-1706486399@auburndalefl.com
SUMMARY:WABA JUCO Early Bird Tournament
DESCRIPTION:Baseball tournament held at Lake Myrtle Sports Complex. January 26th to 28th. \nFor more information regarding WABA\, please refer to: https://www.wabafloridabaseball.com/
URL:https://auburndalefl.com/event/waba-juco-super-showcase/
LOCATION:Lake Myrtle Sports Park\, 2701 Lake Myrtle Park Road\, Auburndale\, FL\, 33823\, United States
CATEGORIES:Sports Events
ATTACH;FMTTYPE=image/png:https://auburndalefl.com/wp-content/uploads/2024/01/Lake-Myrtle-Park.png
END:VEVENT
BEGIN:VEVENT
DTSTART;VALUE=DATE:20231226
DTEND;VALUE=DATE:20231227
DTSTAMP:20260422T114415
CREATED:20211202T183128Z
LAST-MODIFIED:20231201T214601Z
UID:19890-1703548800-1703635199@auburndalefl.com
SUMMARY:City Holiday
DESCRIPTION:City offices will be closed in observation of the Christmas holiday. \n 
URL:https://auburndalefl.com/event/city-holiday-christmas/
CATEGORIES:Holidays and Special Days
ATTACH;FMTTYPE=image/jpeg:https://auburndalefl.com/wp-content/uploads/2019/12/Christmas-Web-Banner.jpg
END:VEVENT
BEGIN:VEVENT
DTSTART;VALUE=DATE:20231209
DTEND;VALUE=DATE:20231211
DTSTAMP:20260422T114415
CREATED:20230929T134517Z
LAST-MODIFIED:20230929T134517Z
UID:25096-1702080000-1702252799@auburndalefl.com
SUMMARY:NSA Florida Fastpitch Fall State Championships
DESCRIPTION:Fastpitch softball tournament \nLocation: Lake Myrtle Sports Complex \nWhen: December 9th to 10th \nFor more information\, please refer to the NSA’s website: https://nsafloridafastpitch.com/tournaments.html
URL:https://auburndalefl.com/event/nsa-florida-fastpitch-fall-state-championships/
CATEGORIES:Sports Events
END:VEVENT
BEGIN:VEVENT
DTSTART;VALUE=DATE:20231202
DTEND;VALUE=DATE:20231204
DTSTAMP:20260422T114415
CREATED:20230929T134347Z
LAST-MODIFIED:20230929T134347Z
UID:25091-1701475200-1701647999@auburndalefl.com
SUMMARY:Florida Half Century 60's State Championships
DESCRIPTION:Florida Half Century’s Softball State Championships \nWhen: December 2nd to 3rd \nLocation: Lake Myrtle Sports Complex \nFor more information\, please refer to the organization’s website: https://www.floridahalfcentury.org/en.tournament-60s-2023-10.htm
URL:https://auburndalefl.com/event/florida-half-century-60s-state-championships/
CATEGORIES:Sports Events
END:VEVENT
BEGIN:VEVENT
DTSTART;VALUE=DATE:20231202
DTEND;VALUE=DATE:20231204
DTSTAMP:20260422T114415
CREATED:20230929T134116Z
LAST-MODIFIED:20230929T134116Z
UID:25087-1701475200-1701647999@auburndalefl.com
SUMMARY:Polk County Judges Cup
DESCRIPTION:A soccer tournament located at Lake Myrtle Sports Complex. \nDecember 2nd – 3rd
URL:https://auburndalefl.com/event/polk-county-judges-cup/
CATEGORIES:Sports Events
END:VEVENT
BEGIN:VEVENT
DTSTART;VALUE=DATE:20231104
DTEND;VALUE=DATE:20231106
DTSTAMP:20260422T114415
CREATED:20230928T190710Z
LAST-MODIFIED:20230928T190710Z
UID:25047-1699056000-1699228799@auburndalefl.com
SUMMARY:GSA Fall State Championships
DESCRIPTION:Baseball Championships hosted at Lake Myrtle Sports Complex. \nFor more information about Global Sports Alliance\, please refer to their website: \nhttps://gsasports.net/tournaments?isHomePage=false \n 
URL:https://auburndalefl.com/event/gsa-fall-state-championships/
LOCATION:Lake Myrtle Sports Park\, 2701 Lake Myrtle Park Road\, Auburndale\, FL\, 33823\, United States
CATEGORIES:Sports Events
END:VEVENT
BEGIN:VEVENT
DTSTART;VALUE=DATE:20231031
DTEND;VALUE=DATE:20231101
DTSTAMP:20260422T114415
CREATED:20221024T184211Z
LAST-MODIFIED:20231013T151757Z
UID:22555-1698710400-1698796799@auburndalefl.com
SUMMARY:Halloween
DESCRIPTION:Be safe while trick-or-treating. \nFollow helpful tips from the National Safety Council at: https://www.nsc.org/community-safety/safety-topics/seasonal-safety/autumn-safety/halloween \n  \n 
URL:https://auburndalefl.com/event/halloween/
CATEGORIES:Community Events,Holidays and Special Days
ATTACH;FMTTYPE=image/png:https://auburndalefl.com/wp-content/uploads/2022/08/City-Seal-Website-7-22.png
END:VEVENT
BEGIN:VEVENT
DTSTART;TZID=America/New_York:20231028T093000
DTEND;TZID=America/New_York:20231028T143000
DTSTAMP:20260422T114415
CREATED:20231013T182554Z
LAST-MODIFIED:20231013T182749Z
UID:25177-1698485400-1698503400@auburndalefl.com
SUMMARY:BOPC Car Show & Swap Meet
DESCRIPTION:All years\, makes\, and models of Buicks\, Oldsmobiles\, Pontiacs\, and Cadillacs are welcome.
URL:https://auburndalefl.com/event/bopc-car-show-swap-meet/
LOCATION:Downtown City Park\, 1 Bobby Green Plaza\, Auburndale\, FL 33823\, Auburndale\, FL\, 33823\, United States
CATEGORIES:Community Events
ATTACH;FMTTYPE=image/jpeg:https://auburndalefl.com/wp-content/uploads/2020/08/Lake-Stella-Web.jpg
END:VEVENT
BEGIN:VEVENT
DTSTART;VALUE=DATE:20231028
DTEND;VALUE=DATE:20231030
DTSTAMP:20260422T114415
CREATED:20230929T133605Z
LAST-MODIFIED:20230929T133605Z
UID:25076-1698451200-1698623999@auburndalefl.com
SUMMARY:FYSA U18/U19 State Cup Elimination Round
DESCRIPTION:Oct. 28-29. Located at Lake Myrtle Sports Complex. \nFor more information\, please refer to FYSA’s website: https://www.fysa.com/
URL:https://auburndalefl.com/event/fysa-u18-u19-state-cup-elimination-round/
CATEGORIES:Sports Events
END:VEVENT
BEGIN:VEVENT
DTSTART;VALUE=DATE:20231020
DTEND;VALUE=DATE:20231023
DTSTAMP:20260422T114415
CREATED:20230928T190305Z
LAST-MODIFIED:20230928T190305Z
UID:25044-1697760000-1698019199@auburndalefl.com
SUMMARY:PG Florida Fall National
DESCRIPTION:Baseball event located at Lake Myrtle Sports Complex.
URL:https://auburndalefl.com/event/pg-florida-fall-national/
END:VEVENT
BEGIN:VEVENT
DTSTART;VALUE=DATE:20231014
DTEND;VALUE=DATE:20231016
DTSTAMP:20260422T114415
CREATED:20230929T133435Z
LAST-MODIFIED:20230929T133435Z
UID:25073-1697241600-1697414399@auburndalefl.com
SUMMARY:FYSA U18/U19 State Cup
DESCRIPTION:Oct. 14-15. Florida Youth Soccer Association State Cup. Located at Lake Myrtle Sports Complex. \nFor more information\, please refer to FYSA’s website: https://www.fysa.com/
URL:https://auburndalefl.com/event/fysa-u18-u19-state-cup/
CATEGORIES:Sports Events
END:VEVENT
BEGIN:VEVENT
DTSTART;VALUE=DATE:20231009
DTEND;VALUE=DATE:20231014
DTSTAMP:20260422T114415
CREATED:20200918T142323Z
LAST-MODIFIED:20231002T142917Z
UID:16074-1696809600-1697241599@auburndalefl.com
SUMMARY:Fire Prevention Week
DESCRIPTION:Each year\, the Auburndale Fire Department hosts its very own Fire Prevention Week. The typical week consists of students and teachers visiting the fire station for special tours and demonstrations to help students learn about firefighters and basic fire safety skills. To find more videos and games for kids that teach fire safety skills\, visit NFPA Kids/Sparky.org \nJoin National Fire Protection Association in celebrating Fire Prevention Week. This year’s campaign\, “Cooking Safety Starts with You”\, works to educate everyone about simple but important actions they can take to keep themselves and those around them safe from home fires.
URL:https://auburndalefl.com/event/fire-prevention-week/
LOCATION:Auburndale  Fire Department\, 100 Ariana Ave\, Auburndale\, FL\, 33823\, United States
CATEGORIES:City Events
END:VEVENT
END:VCALENDAR