BEGIN:VCALENDAR
VERSION:2.0
PRODID:-//City of Auburndale - ECPv6.15.20//NONSGML v1.0//EN
CALSCALE:GREGORIAN
METHOD:PUBLISH
X-WR-CALNAME:City of Auburndale
X-ORIGINAL-URL:https://auburndalefl.com
X-WR-CALDESC:Events for City of Auburndale
REFRESH-INTERVAL;VALUE=DURATION:PT1H
X-Robots-Tag:noindex
X-PUBLISHED-TTL:PT1H
BEGIN:VTIMEZONE
TZID:America/New_York
BEGIN:DAYLIGHT
TZOFFSETFROM:-0500
TZOFFSETTO:-0400
TZNAME:EDT
DTSTART:20200308T070000
END:DAYLIGHT
BEGIN:STANDARD
TZOFFSETFROM:-0400
TZOFFSETTO:-0500
TZNAME:EST
DTSTART:20201101T060000
END:STANDARD
BEGIN:DAYLIGHT
TZOFFSETFROM:-0500
TZOFFSETTO:-0400
TZNAME:EDT
DTSTART:20210314T070000
END:DAYLIGHT
BEGIN:STANDARD
TZOFFSETFROM:-0400
TZOFFSETTO:-0500
TZNAME:EST
DTSTART:20211107T060000
END:STANDARD
BEGIN:DAYLIGHT
TZOFFSETFROM:-0500
TZOFFSETTO:-0400
TZNAME:EDT
DTSTART:20220313T070000
END:DAYLIGHT
BEGIN:STANDARD
TZOFFSETFROM:-0400
TZOFFSETTO:-0500
TZNAME:EST
DTSTART:20221106T060000
END:STANDARD
BEGIN:DAYLIGHT
TZOFFSETFROM:-0500
TZOFFSETTO:-0400
TZNAME:EDT
DTSTART:20230312T070000
END:DAYLIGHT
BEGIN:STANDARD
TZOFFSETFROM:-0400
TZOFFSETTO:-0500
TZNAME:EST
DTSTART:20231105T060000
END:STANDARD
BEGIN:DAYLIGHT
TZOFFSETFROM:-0500
TZOFFSETTO:-0400
TZNAME:EDT
DTSTART:20240310T070000
END:DAYLIGHT
BEGIN:STANDARD
TZOFFSETFROM:-0400
TZOFFSETTO:-0500
TZNAME:EST
DTSTART:20241103T060000
END:STANDARD
END:VTIMEZONE
BEGIN:VEVENT
DTSTART;VALUE=DATE:20230818
DTEND;VALUE=DATE:20230819
DTSTAMP:20260422T155105
CREATED:20230619T170914Z
LAST-MODIFIED:20230728T185738Z
UID:24186-1692316800-1692403199@auburndalefl.com
SUMMARY:Deadline: SunRail Extension Public Workshop
DESCRIPTION:The Florida Department of Transportation (FDOT) invites to you participate in an online Virtual Interactive Workshop for the SunRail Extension Study to Polk County. The workshop will be available 24 hours per day\, 7 days per week beginning June 16\, 2023\, through July 31\, 2023. During this time\, visit https://SunRailExt.meetsyou.online . Please complete the survey at the end of the virtual public workshop. \n  \nPublic Workshop Information \nSunRail Study Summary \nGo To the Virtual Public Workshop 
URL:https://auburndalefl.com/event/sunrail-workshop/
LOCATION:FL
CATEGORIES:Community Events
ATTACH;FMTTYPE=image/jpeg:https://auburndalefl.com/wp-content/uploads/2020/08/Lake-Stella-Web.jpg
END:VEVENT
BEGIN:VEVENT
DTSTART;VALUE=DATE:20230804
DTEND;VALUE=DATE:20230805
DTSTAMP:20260422T155105
CREATED:20230707T185459Z
LAST-MODIFIED:20230801T181359Z
UID:24304-1691107200-1691193599@auburndalefl.com
SUMMARY:Community Center Gym Closed This Week: Annual Cleaning
DESCRIPTION:The Community Center Gym will be closed during the week of July 31 – August 4 for its annual facility cleaning.
URL:https://auburndalefl.com/event/community-center-gym-closed-us-floorball-youth-nationals/
LOCATION:Auburndale Community Center\, 405 Bennett Street\, Auburndale\, FL\, 33823\, United States
CATEGORIES:Community Center Events
END:VEVENT
BEGIN:VEVENT
DTSTART;TZID=America/New_York:20230713T140000
DTEND;TZID=America/New_York:20230713T150000
DTSTAMP:20260422T155105
CREATED:20230602T190718Z
LAST-MODIFIED:20230602T190718Z
UID:24121-1689256800-1689260400@auburndalefl.com
SUMMARY:Summer Guest: Spheres Bubble Show
DESCRIPTION:7/13\, 2 PM at the Civic Center
URL:https://auburndalefl.com/event/summer-guest-spheres-bubble-show/
LOCATION:Auburndale Civic Center\, 115 W Park St\, Auburndale\, FL 33823\, Auburndale\, FL\, 33823\, United States
CATEGORIES:Library Events
END:VEVENT
BEGIN:VEVENT
DTSTART;VALUE=DATE:20230619
DTEND;VALUE=DATE:20230620
DTSTAMP:20260422T155105
CREATED:20230616T182106Z
LAST-MODIFIED:20230616T182451Z
UID:24181-1687132800-1687219199@auburndalefl.com
SUMMARY:Juneteenth
DESCRIPTION:City Offices will be open for Juneteenth\, June 19\, 2023.
URL:https://auburndalefl.com/event/juneteenth/
LOCATION:FL
CATEGORIES:Holidays and Special Days
ATTACH;FMTTYPE=image/png:https://auburndalefl.com/wp-content/uploads/2022/08/City-Seal-Website-7-22.png
END:VEVENT
BEGIN:VEVENT
DTSTART;VALUE=DATE:20230618
DTEND;VALUE=DATE:20230619
DTSTAMP:20260422T155105
CREATED:20200619T180734Z
LAST-MODIFIED:20230425T150052Z
UID:15285-1687046400-1687132799@auburndalefl.com
SUMMARY:Father's Day
DESCRIPTION:Father’s Day is Sunday\, June 18\, 2023.
URL:https://auburndalefl.com/event/fathers-day/
LOCATION:FL
CATEGORIES:Holidays and Special Days
ATTACH;FMTTYPE=image/png:https://auburndalefl.com/wp-content/uploads/2022/08/City-Seal-Website-7-22.png
END:VEVENT
BEGIN:VEVENT
DTSTART;VALUE=DATE:20230617
DTEND;VALUE=DATE:20230618
DTSTAMP:20260422T155105
CREATED:20220421T202752Z
LAST-MODIFIED:20230601T150430Z
UID:21112-1686960000-1687046399@auburndalefl.com
SUMMARY:Kickball Tournament
DESCRIPTION:On Saturday\, June 17\, we are hosting a new event for the sports-loving adults in Auburndale! Our new Adult Co-Ed Kickball Tournament will be a great time to get together with friends and teammates and compete for the number 1 spot. \nRegistration is open now until June 14\, online at http://apm.activecommunities.com/auburndaleparksrec/Activity_Search/397 \nTeams can register for $450 and must consist of 10-13 players. Teams are also required to have a minimum of 3 women per team. Players must be at least 16 years old. 2 games are guaranteed. Lunch and player gifts are provided. Last but not least\, there will be 1st and 2nd place prizes for the tournament. \nThe tournament will be on Saturday\, June 17\, starting at 9 AM\, located at the Lake Myrtle Youth Baseball Complex at 876 Braddock Rd\, Auburndale.
URL:https://auburndalefl.com/event/kickball/
LOCATION:Auburndale Youth Baseball\, Braddock Road\, Auburndale\, FL\, 33823\, United States
CATEGORIES:City Events
END:VEVENT
BEGIN:VEVENT
DTSTART;TZID=America/New_York:20230614T090000
DTEND;TZID=America/New_York:20230614T110000
DTSTAMP:20260422T155105
CREATED:20210506T175327Z
LAST-MODIFIED:20230602T194111Z
UID:17778-1686733200-1686740400@auburndalefl.com
SUMMARY:Coffee with a Cop
DESCRIPTION:Join us for Coffee with a Cop on Wednesday\, June 14 from 9 AM to 11 AM at the McDonald’s on US Highway 92. \nThink of it as an in-person AMA (ask me anything) event. You can grab a coffee\, maybe enjoy a cookie\, and chat with a member of your local law enforcement. Topics can include but are not limited to community concerns\, helpful neighborhood ideas\, or even that one person who never picks up after their dog. \nWe look forward to seeing you at Coffee with a Cop on June 14!
URL:https://auburndalefl.com/event/apd-event/
LOCATION:FL
CATEGORIES:Community Events
ATTACH;FMTTYPE=image/png:https://auburndalefl.com/wp-content/uploads/2020/09/Police-Badge.png
END:VEVENT
BEGIN:VEVENT
DTSTART;TZID=America/New_York:20230520T090000
DTEND;TZID=America/New_York:20230520T110000
DTSTAMP:20260422T155105
CREATED:20190510T171803Z
LAST-MODIFIED:20230419T142955Z
UID:11450-1684573200-1684580400@auburndalefl.com
SUMMARY:Auburndale High School Graduation
DESCRIPTION:
URL:https://auburndalefl.com/event/ahs-graduation/
LOCATION:Bruce Canova Stadium\, 1 Bloodhound Trail\, Auburndale\, FL\, 33823\, United States
CATEGORIES:Community Events
ATTACH;FMTTYPE=image/png:https://auburndalefl.com/wp-content/uploads/2021/05/AHS-Square.png
END:VEVENT
BEGIN:VEVENT
DTSTART;TZID=America/New_York:20230518T163000
DTEND;TZID=America/New_York:20230518T180000
DTSTAMP:20260422T155105
CREATED:20191021T223343Z
LAST-MODIFIED:20230508T180942Z
UID:13020-1684427400-1684432800@auburndalefl.com
SUMMARY:Family Night: Circus Bonanza
DESCRIPTION:Join us at Auburndale Library for games\, crafts\, and snacks! Fun for the whole family! \nThursday\, May 18\, 4:30 – 6 PM
URL:https://auburndalefl.com/event/library-family-night/
LOCATION:Auburndale Public Library\, 100 W Bridgers Avenue\, Auburndale\, FL\, 33823\, United States
CATEGORIES:Library Events
END:VEVENT
BEGIN:VEVENT
DTSTART;TZID=America/New_York:20230518T150000
DTEND;TZID=America/New_York:20230518T170000
DTSTAMP:20260422T155105
CREATED:20230201T211726Z
LAST-MODIFIED:20230508T181123Z
UID:23229-1684422000-1684429200@auburndalefl.com
SUMMARY:Makerspace at the Library
DESCRIPTION:Fun science-inspired crafts!
URL:https://auburndalefl.com/event/makerspace-at-the-library/
LOCATION:Auburndale Public Library\, 100 W Bridgers Avenue\, Auburndale\, FL\, 33823\, United States
CATEGORIES:Library Events
END:VEVENT
BEGIN:VEVENT
DTSTART;TZID=America/New_York:20230511T150000
DTEND;TZID=America/New_York:20230511T170000
DTSTAMP:20260422T155105
CREATED:20230201T211936Z
LAST-MODIFIED:20230508T181301Z
UID:23235-1683817200-1683824400@auburndalefl.com
SUMMARY:Teen Time: Button Pins
DESCRIPTION:Teen craft activities!
URL:https://auburndalefl.com/event/teen-board-game-day/
LOCATION:Auburndale Public Library\, 100 W Bridgers Avenue\, Auburndale\, FL\, 33823\, United States
CATEGORIES:Library Events
END:VEVENT
BEGIN:VEVENT
DTSTART;VALUE=DATE:20230506
DTEND;VALUE=DATE:20230508
DTSTAMP:20260422T155105
CREATED:20210608T192743Z
LAST-MODIFIED:20230411T144938Z
UID:18210-1683331200-1683503999@auburndalefl.com
SUMMARY:FYSA State Cup Elimination Round
DESCRIPTION:https://www.fysa.com/
URL:https://auburndalefl.com/event/sports5/
LOCATION:Lake Myrtle Sports Park\, 2701 Lake Myrtle Park Road\, Auburndale\, FL\, 33823\, United States
CATEGORIES:Sports Events
ATTACH;FMTTYPE=image/png:https://auburndalefl.com/wp-content/uploads/2020/08/Lake-Myrtle-Park-Small.png
END:VEVENT
BEGIN:VEVENT
DTSTART;VALUE=DATE:20230430
DTEND;VALUE=DATE:20230507
DTSTAMP:20260422T155105
CREATED:20220301T213723Z
LAST-MODIFIED:20230411T144704Z
UID:20694-1682812800-1683417599@auburndalefl.com
SUMMARY:Homeschool World Series
DESCRIPTION:https://hwsa.net/
URL:https://auburndalefl.com/event/sports4/
LOCATION:Auburndale Community Center\, 405 Bennett Street\, Auburndale\, FL\, 33823\, United States
CATEGORIES:Sports Events
ATTACH;FMTTYPE=image/png:https://auburndalefl.com/wp-content/uploads/2020/08/Lake-Myrtle-Park-Small.png
END:VEVENT
BEGIN:VEVENT
DTSTART;TZID=America/New_York:20230422T100000
DTEND;TZID=America/New_York:20230422T140000
DTSTAMP:20260422T155105
CREATED:20190418T192134Z
LAST-MODIFIED:20230421T145333Z
UID:11264-1682157600-1682172000@auburndalefl.com
SUMMARY:National Medication Take Back Day
DESCRIPTION:National Prescription Drug Take Back Day is on Saturday\, April 22\, 2022\, from 10:00 am to 2:00 pm. This is an opportunity for citizens to dispose of unwanted\, unneeded\, and expired medications in a safe manner. \n\n\n\n\nThis effort is important to allow people to responsibly dispose of prescription drugs and eliminate the potential abuse of them. It also prevents pharmaceuticals from contaminating our lakes and ground water. Please do not dispose of prescription drugs by flushing them in the toilet. \n\n\n\nOur community’s Prescription Drug Take Back Day will take place at the Auburndale Police Department at 2 Bobby Green Plaza\, Auburndale\, FL. Citizens may turn in unused\, expired\, or unwanted human and pet medications\, as well as over the counter medications\, vitamins\, and other medication in liquid or solid form\, for proper disposal. There will be plastic bags provided on-site for medication disposal.\n\n 
URL:https://auburndalefl.com/event/medication-take-back-day/
LOCATION:Auburndale Police Department\, 2 Bobby Green Plaza\, Auburndale\, FL\, 33823\, United States
CATEGORIES:City Events
ATTACH;FMTTYPE=image/png:https://auburndalefl.com/wp-content/uploads/2020/09/Police-Badge.png
ORGANIZER;CN="Seth Teston":MAILTO:steston@auburndalefl.com
END:VEVENT
BEGIN:VEVENT
DTSTART;TZID=America/New_York:20230415T110000
DTEND;TZID=America/New_York:20230415T140000
DTSTAMP:20260422T155105
CREATED:20190315T141100Z
LAST-MODIFIED:20230411T145439Z
UID:10611-1681556400-1681567200@auburndalefl.com
SUMMARY:Touch-A-Truck
DESCRIPTION:Touch-a-Truck is a popular hometown event in Auburndale! Each year\, we feature a showcase of big trucks\, utility equipment\, and unique vehicles. This year that showcase is joining up with CityFest! From 11 AM to 2 PM\, explore and experience the showcase at the Lake Myrtle Sports Park! Get to know the people that drive these vehicles and climb into the driver seat for a view of the controls and features of each vehicle. Touch-a-Truck is a great educational opportunity for kids and adults!\n\nThis year you can expect to discover: tractors\, a garbage truck\, an airboat\, a fire truck\, a police cruiser\, a stock car\, and more! \n 
URL:https://auburndalefl.com/event/touch-a-truck/
LOCATION:Lake Myrtle Sports Park\, 2701 Lake Myrtle Park Road\, Auburndale\, FL\, 33823\, United States
CATEGORIES:City Events
END:VEVENT
BEGIN:VEVENT
DTSTART;TZID=America/New_York:20230403T150000
DTEND;TZID=America/New_York:20230403T160000
DTSTAMP:20260422T155105
CREATED:20221014T170516Z
LAST-MODIFIED:20230322T173319Z
UID:22514-1680534000-1680537600@auburndalefl.com
SUMMARY:Write Now! Teen Club
DESCRIPTION:April 3 is our monthly teen hangout at the Auburndale Community Center\, hosted by the Auburndale Public Library. \n 
URL:https://auburndalefl.com/event/write-now-teen-club/
LOCATION:Auburndale Community Center\, 405 Bennett Street\, Auburndale\, FL\, 33823\, United States
CATEGORIES:Library Events
END:VEVENT
BEGIN:VEVENT
DTSTART;VALUE=DATE:20230214
DTEND;VALUE=DATE:20230215
DTSTAMP:20260422T155105
CREATED:20230130T160126Z
LAST-MODIFIED:20230130T160126Z
UID:23163-1676332800-1676419199@auburndalefl.com
SUMMARY:Valentine's Day
DESCRIPTION:This is not a City Holiday. \nDon’t forget to do something nice for your partner OR treat yo’ self!
URL:https://auburndalefl.com/event/valentines-day/
LOCATION:FL
CATEGORIES:Holidays and Special Days
ATTACH;FMTTYPE=image/jpeg:https://auburndalefl.com/wp-content/uploads/2019/05/butterfly-bush.jpg
END:VEVENT
BEGIN:VEVENT
DTSTART;TZID=America/New_York:20230211T090000
DTEND;TZID=America/New_York:20230211T113000
DTSTAMP:20260422T155105
CREATED:20211020T184747Z
LAST-MODIFIED:20230201T204141Z
UID:19525-1676106000-1676115000@auburndalefl.com
SUMMARY:Valentine's Tennis Mixer
DESCRIPTION:The Valentine’s Tennis Mixer is coming up on Saturday\, February 11\, at the Cindy Hummel Tennis Center! \n\n\n\n\nSign up with your sweetheart or come single. Join us for tennis and a chance to mingle! We’ll be hosting round robin style matches from 9 AM – 11:30 AM (those that sign up with their Valentine will begin together as partners). Must be 17+ to sign up\, $10 per person and $15 per couple. Please register at the Cindy Hummel Tennis Center (202 Wiley Drive)\, call at 863-965-5544\, or email at lallen@auburndalefl.com
URL:https://auburndalefl.com/event/tennis-event/
LOCATION:Cindy Hummel Tennis Center\, 202 Wiley Drive\, Auburndale\, FL\, 33823\, United States
CATEGORIES:City Events,Tennis Events
END:VEVENT
BEGIN:VEVENT
DTSTART;VALUE=DATE:20230101
DTEND;VALUE=DATE:20230102
DTSTAMP:20260422T155105
CREATED:20191217T194727Z
LAST-MODIFIED:20221205T164941Z
UID:13534-1672531200-1672617599@auburndalefl.com
SUMMARY:New Year's Day
DESCRIPTION:Hello 2023!
URL:https://auburndalefl.com/event/new-years-day-holiday/
LOCATION:FL
CATEGORIES:Holidays and Special Days
ATTACH;FMTTYPE=image/jpeg:https://auburndalefl.com/wp-content/uploads/2019/12/NY2020.jpeg
END:VEVENT
BEGIN:VEVENT
DTSTART;VALUE=DATE:20221225
DTEND;VALUE=DATE:20221226
DTSTAMP:20260422T155105
CREATED:20191216T140628Z
LAST-MODIFIED:20221205T164635Z
UID:13489-1671926400-1672012799@auburndalefl.com
SUMMARY:Christmas Day
DESCRIPTION:Have a Merry Christmas!
URL:https://auburndalefl.com/event/christmas-day/
LOCATION:FL
CATEGORIES:Holidays and Special Days
ATTACH;FMTTYPE=image/jpeg:https://auburndalefl.com/wp-content/uploads/2019/12/Christmas-Web-Banner.jpg
END:VEVENT
BEGIN:VEVENT
DTSTART;TZID=America/New_York:20221215T180000
DTEND;TZID=America/New_York:20221215T200000
DTSTAMP:20260422T155105
CREATED:20211129T213952Z
LAST-MODIFIED:20221202T191044Z
UID:19851-1671127200-1671134400@auburndalefl.com
SUMMARY:Baynard House Candlelight Open House
DESCRIPTION:The Baynard House Committee will be hosting Baynard House Candlelight Open House on Thursday\, December 15\, from 6 PM to 8 PM. Hope you can stop by and enjoy our little treasure of history!
URL:https://auburndalefl.com/event/baynard-tour/
LOCATION:Baynard House\, 208 W Lake Ave\, Auburndale\, FL\, 33823\, United States
CATEGORIES:Community Events
ATTACH;FMTTYPE=image/jpeg:https://auburndalefl.com/wp-content/uploads/2019/12/Christmas-Web-Banner.jpg
END:VEVENT
BEGIN:VEVENT
DTSTART;TZID=America/New_York:20220823T130000
DTEND;TZID=America/New_York:20220823T160000
DTSTAMP:20260422T155105
CREATED:20210609T183825Z
LAST-MODIFIED:20220817T185324Z
UID:18266-1661259600-1661270400@auburndalefl.com
SUMMARY:Blood Drive
DESCRIPTION:Tuesday\, August 23 \n1:00 PM – 4:00 PM \n119 W Park St\, Auburndale\, FL \nhttps://whhcommunitybloodcenter.org/category/blood-drives/
URL:https://auburndalefl.com/event/blood-drive/
LOCATION:Auburndale Parks & Recreation Department\, 119 W Park Street\, Auburndale\, FL\, 33823\, United States
CATEGORIES:Community Events
END:VEVENT
BEGIN:VEVENT
DTSTART;VALUE=DATE:20210515
DTEND;VALUE=DATE:20210516
DTSTAMP:20260422T155105
CREATED:20210513T134852Z
LAST-MODIFIED:20210513T134936Z
UID:17830-1621036800-1621123199@auburndalefl.com
SUMMARY:Peace Officers Memorial Day
DESCRIPTION:Peace Officers Memorial Day will be observed on Saturday\, May 15\, 2021. \nPeace Officers Memorial Day is an annual remembrance of law enforcement officers who have died or who have been disabled in the line of duty. Established in 1962 by President John F. Kennedy\, Peace Officers Memorial Day is observed on May 15th\, but is actually part of a larger tribute to the men and women of law enforcement known as National Police Week\, which is recognized the week of May 15th. This observance was enacted at the same time as Peace Officers Memorial Day\, established by a joint resolution of Congress in 1962.
URL:https://auburndalefl.com/event/peace-officers-memorial-day/
LOCATION:FL
CATEGORIES:Holidays and Special Days
END:VEVENT
BEGIN:VEVENT
DTSTART;VALUE=DATE:20210215
DTEND;VALUE=DATE:20210216
DTSTAMP:20260422T155105
CREATED:20210212T215855Z
LAST-MODIFIED:20210212T215855Z
UID:17217-1613347200-1613433599@auburndalefl.com
SUMMARY:President's Day (City Offices/Facilities Open)
DESCRIPTION:City of Auburndale offices and facilities will be open for President’s Day
URL:https://auburndalefl.com/event/presidents-day-city-offices-facilities-open/
LOCATION:FL
CATEGORIES:Holidays and Special Days
END:VEVENT
END:VCALENDAR